BEGIN:VCALENDAR
VERSION:2.0
PRODID:-//santafetxedfoundation.org//NONSGML kigkonsult.se iCalcreator 2.30
 .10//
CALSCALE:GREGORIAN
METHOD:PUBLISH
UID:794482f7-a2b5-4632-82d4-ce7c9e75319b
X-WR-CALDESC:
X-WR-RELCALID:ecb42ddc1982135e0bd6efd8e8dcbcba
X-WR-TIMEZONE:America/Chicago
BEGIN:VTIMEZONE
TZID:America/Chicago
BEGIN:STANDARD
TZNAME:CST
DTSTART:20201101T020000
TZOFFSETFROM:-0500
TZOFFSETTO:-0600
RDATE:20211107T020000
END:STANDARD
BEGIN:DAYLIGHT
TZNAME:CDT
DTSTART:20200308T020000
TZOFFSETFROM:-0600
TZOFFSETTO:-0500
RDATE:20210314T020000
RDATE:20220313T020000
END:DAYLIGHT
END:VTIMEZONE
BEGIN:VEVENT
UID:ac5b73cb-eaa4-4327-84c9-9ea7892c39b2
DTSTAMP:20260421T033822Z
DESCRIPTION:
DTSTART;TZID=America/Chicago:20210118T000000
DTEND;TZID=America/Chicago:20210118T235900
LOCATION:
SUMMARY:Professional Learning Day/Student Holiday
END:VEVENT
END:VCALENDAR
