BEGIN:VCALENDAR
VERSION:2.0
PRODID:-//santafetxedfoundation.org//NONSGML kigkonsult.se iCalcreator 2.30
 .10//
CALSCALE:GREGORIAN
METHOD:PUBLISH
UID:f1ee6e62-cba7-4222-9602-9a74e7d7458d
X-WR-CALDESC:
X-WR-RELCALID:00d8cf7623328f50b2d6815ff271b00a
X-WR-TIMEZONE:America/Chicago
BEGIN:VTIMEZONE
TZID:America/Chicago
BEGIN:STANDARD
TZNAME:CST
DTSTART:20201101T020000
TZOFFSETFROM:-0500
TZOFFSETTO:-0600
RDATE:20211107T020000
END:STANDARD
BEGIN:DAYLIGHT
TZNAME:CDT
DTSTART:20210314T020000
TZOFFSETFROM:-0600
TZOFFSETTO:-0500
RDATE:20220313T020000
END:DAYLIGHT
END:VTIMEZONE
BEGIN:VEVENT
UID:2a251bb7-2116-458d-bcfa-02c60f0c3d8f
DTSTAMP:20260424T190409Z
DESCRIPTION:
DTSTART;TZID=America/Chicago:20210402T000000
DTEND;TZID=America/Chicago:20210402T235900
LOCATION:
SUMMARY:Staff & Student Holiday
END:VEVENT
END:VCALENDAR
