BEGIN:VCALENDAR
VERSION:2.0
PRODID:-//santafetxedfoundation.org//NONSGML kigkonsult.se iCalcreator 2.30
 .10//
CALSCALE:GREGORIAN
METHOD:PUBLISH
UID:1a882768-f2ac-4488-88e0-a174722477d6
X-WR-CALDESC:Annually\, this is the Foundation's biggest event to showcase 
 education and success in Santa Fe ISD through students\, teachers\, and pa
 rents. It is the culmination of our annual campaign and thereby provides f
 unds to support all of our diverse programs in Santa Fe ISD. Now more than
  ever\, our teachers need your support. Lock arms with us to launch enhanc
 ed opportunities and to drive support for teachers\, staff\, and students 
 through the classrooms in Santa Fe ISD. Our goal is to raise $100\,000.
X-WR-RELCALID:3875f09af36a0bb616332f1940fbde23
X-WR-TIMEZONE:America/Chicago
BEGIN:VTIMEZONE
TZID:America/Chicago
BEGIN:STANDARD
TZNAME:CST
DTSTART:20201101T020000
TZOFFSETFROM:-0500
TZOFFSETTO:-0600
RDATE:20211107T020000
END:STANDARD
BEGIN:DAYLIGHT
TZNAME:CDT
DTSTART:20210314T020000
TZOFFSETFROM:-0600
TZOFFSETTO:-0500
RDATE:20220313T020000
END:DAYLIGHT
END:VTIMEZONE
BEGIN:VEVENT
UID:b0dca9c1-2885-47d5-9ac7-cad133a37711
DTSTAMP:20260422T091528Z
DESCRIPTION:Annually\, this is the Foundation's biggest event to showcase e
 ducation and success in Santa Fe ISD through students\, teachers\, and par
 ents. It is the culmination of our annual campaign and thereby provides fu
 nds to support all of our diverse programs in Santa Fe ISD. Now more than 
 ever\, our teachers need your support. Lock arms with us to launch enhance
 d opportunities and to drive support for teachers\, staff\, and students t
 hrough the classrooms in Santa Fe ISD. Our goal is to raise $100\,000.
DTSTART;TZID=America/Chicago:20210406T180000
DTEND;TZID=America/Chicago:20210406T193000
LOCATION:https://paybee.io/vevent.html?action=openrsvp&eventId=6007aa24365f
 ca4d0af04b9c
SUMMARY:Starlight Gala: Dream Big\, Work Hard\, Reach for the Stars VIRTUAL
  EVENT!
END:VEVENT
END:VCALENDAR
