BEGIN:VCALENDAR
VERSION:2.0
PRODID:-//santafetxedfoundation.org//NONSGML kigkonsult.se iCalcreator 2.30
 .10//
CALSCALE:GREGORIAN
METHOD:PUBLISH
UID:559b3ca0-52e4-4e7c-838c-8dd60a532f74
X-WR-CALDESC:
X-WR-RELCALID:b4538c6b273b65ae7db8c914f41a4dd0
X-WR-TIMEZONE:America/Chicago
BEGIN:VTIMEZONE
TZID:America/Chicago
BEGIN:STANDARD
TZNAME:CST
DTSTART:20201101T020000
TZOFFSETFROM:-0500
TZOFFSETTO:-0600
RDATE:20211107T020000
END:STANDARD
BEGIN:DAYLIGHT
TZNAME:CDT
DTSTART:20210314T020000
TZOFFSETFROM:-0600
TZOFFSETTO:-0500
RDATE:20220313T020000
END:DAYLIGHT
END:VTIMEZONE
BEGIN:VEVENT
UID:402b1b57-7a73-4490-89da-d3b5d1841010
DTSTAMP:20260424T190004Z
DESCRIPTION:
DTSTART;TZID=America/Chicago:20210423T000000
DTEND;TZID=America/Chicago:20210423T235900
LOCATION:
SUMMARY:Staff & Student Holiday
END:VEVENT
END:VCALENDAR
