BEGIN:VCALENDAR
VERSION:2.0
PRODID:-//santafetxedfoundation.org//NONSGML kigkonsult.se iCalcreator 2.30
 .10//
CALSCALE:GREGORIAN
METHOD:PUBLISH
UID:e7f90c29-bdff-42c9-952a-16aef7ea77f5
X-WR-CALDESC:
X-WR-RELCALID:8acd8cae2f0e2601664fcc349a52dd57
X-WR-TIMEZONE:America/Chicago
BEGIN:VTIMEZONE
TZID:America/Chicago
BEGIN:STANDARD
TZNAME:CST
DTSTART:20201101T020000
TZOFFSETFROM:-0500
TZOFFSETTO:-0600
RDATE:20211107T020000
RDATE:20221106T020000
END:STANDARD
BEGIN:DAYLIGHT
TZNAME:CDT
DTSTART:20210314T020000
TZOFFSETFROM:-0600
TZOFFSETTO:-0500
RDATE:20220313T020000
RDATE:20230312T020000
END:DAYLIGHT
END:VTIMEZONE
BEGIN:VEVENT
UID:31e853ff-e69c-4ce1-94bb-e7966be3e273
DTSTAMP:20260423T001025Z
DESCRIPTION:
DTSTART;TZID=America/Chicago:20211021T081500
DTEND;TZID=America/Chicago:20211021T161500
LOCATION:Texas City Municipal Gun Range
SUMMARY:Pulling for Education Skeet Shoot
END:VEVENT
END:VCALENDAR
