BEGIN:VCALENDAR
VERSION:2.0
PRODID:-//santafetxedfoundation.org//NONSGML kigkonsult.se iCalcreator 2.30
 .10//
CALSCALE:GREGORIAN
METHOD:PUBLISH
UID:1bb180cd-b0e0-4705-816c-bbb39fa95f7e
X-WR-CALDESC:
X-WR-RELCALID:8ef804a1e977d7ff6a334e86aa2553f1
X-WR-TIMEZONE:America/Chicago
BEGIN:VTIMEZONE
TZID:America/Chicago
BEGIN:STANDARD
TZNAME:CST
DTSTART:20211107T020000
TZOFFSETFROM:-0500
TZOFFSETTO:-0600
RDATE:20221106T020000
END:STANDARD
BEGIN:DAYLIGHT
TZNAME:CDT
DTSTART:20210314T020000
TZOFFSETFROM:-0600
TZOFFSETTO:-0500
RDATE:20220313T020000
RDATE:20230312T020000
END:DAYLIGHT
END:VTIMEZONE
BEGIN:VEVENT
UID:3c51ed46-acb2-4097-bef4-0344808ff0eb
DTSTAMP:20260423T010352Z
DESCRIPTION:
DTSTART;TZID=America/Chicago:20220125T173000
DTEND;TZID=America/Chicago:20220125T183000
LOCATION:4133 Warpath Ave\, Santa Fe\, TX 77510 US
SUMMARY:Monthly Board Meeting
END:VEVENT
END:VCALENDAR
