BEGIN:VCALENDAR
VERSION:2.0
PRODID:-//santafetxedfoundation.org//NONSGML kigkonsult.se iCalcreator 2.30
 .10//
CALSCALE:GREGORIAN
METHOD:PUBLISH
UID:9a760b7f-59ef-41eb-a997-92392abec2e1
X-WR-CALDESC:
X-WR-RELCALID:b26c483368cd05b06e18c6e8cdb09301
X-WR-TIMEZONE:America/Chicago
BEGIN:VTIMEZONE
TZID:America/Chicago
BEGIN:STANDARD
TZNAME:CST
DTSTART:20211107T020000
TZOFFSETFROM:-0500
TZOFFSETTO:-0600
RDATE:20221106T020000
END:STANDARD
BEGIN:DAYLIGHT
TZNAME:CDT
DTSTART:20210314T020000
TZOFFSETFROM:-0600
TZOFFSETTO:-0500
RDATE:20220313T020000
RDATE:20230312T020000
END:DAYLIGHT
END:VTIMEZONE
BEGIN:VEVENT
UID:95218a56-87a8-4147-b6a6-b31601aed867
DTSTAMP:20260424T050214Z
DESCRIPTION:
DTSTART;TZID=America/Chicago:20220209T140000
DTEND;TZID=America/Chicago:20220209T150000
LOCATION:4133 Warpath Ave\, Santa Fe\, TX 77510 US
SUMMARY:Executive Committee Meeting
END:VEVENT
END:VCALENDAR
