BEGIN:VCALENDAR
VERSION:2.0
PRODID:-//santafetxedfoundation.org//NONSGML kigkonsult.se iCalcreator 2.30
 .10//
CALSCALE:GREGORIAN
METHOD:PUBLISH
UID:a6fb0b57-d47c-484b-9097-20e8a7ebf57c
X-WR-CALDESC:
X-WR-RELCALID:cb5f8624c4e5713027e4c3700140197a
X-WR-TIMEZONE:America/Chicago
BEGIN:VTIMEZONE
TZID:America/Chicago
BEGIN:STANDARD
TZNAME:CST
DTSTART:20211107T020000
TZOFFSETFROM:-0500
TZOFFSETTO:-0600
RDATE:20221106T020000
END:STANDARD
BEGIN:DAYLIGHT
TZNAME:CDT
DTSTART:20220313T020000
TZOFFSETFROM:-0600
TZOFFSETTO:-0500
RDATE:20230312T020000
END:DAYLIGHT
END:VTIMEZONE
BEGIN:VEVENT
UID:11a06952-f20e-4d88-a1f2-140d1d8e09ca
DTSTAMP:20260424T033424Z
DESCRIPTION:
DTSTART;TZID=America/Chicago:20220322T173000
DTEND;TZID=America/Chicago:20220322T183000
LOCATION:4133 Warpath Ave\, Santa Fe\, TX 77510 US
SUMMARY:Monthly Board Meeting
END:VEVENT
END:VCALENDAR
