BEGIN:VCALENDAR
VERSION:2.0
PRODID:-//santafetxedfoundation.org//NONSGML kigkonsult.se iCalcreator 2.30
 .10//
CALSCALE:GREGORIAN
METHOD:PUBLISH
UID:f58df329-4c2d-473f-a045-1d7e02c82fe6
X-WR-CALDESC:Please join us in person or virtually as we celebrate 12 years
  of supporting the teachers\, staff\, students\, and classrooms in Santa F
 e ISD! This annual Gala will celebrate coming together again and will feat
 ure some exciting highlights that you won't want to miss! Come one\, come 
 all\, this is a community event. For tickets and sponsorships\, follow thi
 s link: https://sftxef.salsalabs.org/togetheragain
X-WR-RELCALID:e35936d5ceb5724e8e018d918a25d58c
X-WR-TIMEZONE:America/Chicago
BEGIN:VTIMEZONE
TZID:America/Chicago
BEGIN:STANDARD
TZNAME:CST
DTSTART:20211107T020000
TZOFFSETFROM:-0500
TZOFFSETTO:-0600
RDATE:20221106T020000
END:STANDARD
BEGIN:DAYLIGHT
TZNAME:CDT
DTSTART:20220313T020000
TZOFFSETFROM:-0600
TZOFFSETTO:-0500
RDATE:20230312T020000
END:DAYLIGHT
END:VTIMEZONE
BEGIN:VEVENT
UID:d4894f31-995f-4c81-a6fd-e9a45ec3279a
DTSTAMP:20260424T033204Z
DESCRIPTION:Please join us in person or virtually as we celebrate 12 years 
 of supporting the teachers\, staff\, students\, and classrooms in Santa Fe
  ISD! This annual Gala will celebrate coming together again and will featu
 re some exciting highlights that you won't want to miss! Come one\, come a
 ll\, this is a community event. For tickets and sponsorships\, follow this
  link: https://sftxef.salsalabs.org/togetheragain
DTSTART;TZID=America/Chicago:20220331T173000
DTEND;TZID=America/Chicago:20220331T220000
LOCATION:2352 County Rd 165\, Alvin\, TX 77511 US
SUMMARY:Together Again: A Night of Inspiration
END:VEVENT
END:VCALENDAR
