BEGIN:VCALENDAR
VERSION:2.0
PRODID:-//santafetxedfoundation.org//NONSGML kigkonsult.se iCalcreator 2.30
 .10//
CALSCALE:GREGORIAN
METHOD:PUBLISH
UID:2c799330-0188-47e3-a886-602ea46938b5
X-WR-CALDESC:
X-WR-RELCALID:b8fce7e34650497e691132e934df6e64
X-WR-TIMEZONE:America/Chicago
BEGIN:VTIMEZONE
TZID:America/Chicago
BEGIN:STANDARD
TZNAME:CST
DTSTART:20211107T020000
TZOFFSETFROM:-0500
TZOFFSETTO:-0600
RDATE:20221106T020000
RDATE:20231105T020000
END:STANDARD
BEGIN:DAYLIGHT
TZNAME:CDT
DTSTART:20220313T020000
TZOFFSETFROM:-0600
TZOFFSETTO:-0500
RDATE:20230312T020000
END:DAYLIGHT
END:VTIMEZONE
BEGIN:VEVENT
UID:683e35e5-571f-48cc-a7d9-b311b88e4137
DTSTAMP:20260424T005742Z
DESCRIPTION:
DTSTART;TZID=America/Chicago:20220511T140000
DTEND;TZID=America/Chicago:20220511T150000
LOCATION:4133 Warpath Ave\, Santa Fe\, TX 77510 US
SUMMARY:Executive Committee Meeting
END:VEVENT
END:VCALENDAR
