BEGIN:VCALENDAR
VERSION:2.0
PRODID:-//santafetxedfoundation.org//NONSGML kigkonsult.se iCalcreator 2.30
 .10//
CALSCALE:GREGORIAN
METHOD:PUBLISH
UID:1d27a1ee-004a-4c28-bb0b-ecb1106b0ce3
X-WR-CALDESC:
X-WR-RELCALID:19bebca3a101926b612139f6e43bb6e5
X-WR-TIMEZONE:America/Chicago
BEGIN:VTIMEZONE
TZID:America/Chicago
BEGIN:STANDARD
TZNAME:CST
DTSTART:20211107T020000
TZOFFSETFROM:-0500
TZOFFSETTO:-0600
RDATE:20221106T020000
RDATE:20231105T020000
END:STANDARD
BEGIN:DAYLIGHT
TZNAME:CDT
DTSTART:20220313T020000
TZOFFSETFROM:-0600
TZOFFSETTO:-0500
RDATE:20230312T020000
END:DAYLIGHT
END:VTIMEZONE
BEGIN:VEVENT
UID:e43a1b3f-a379-4acd-86ae-073c78a78b5a
DTSTAMP:20260424T131019Z
DESCRIPTION:
DTSTART;TZID=America/Chicago:20220523T173000
DTEND;TZID=America/Chicago:20220523T193000
LOCATION:4133 Warpath Ave\, Santa Fe\, TX 77510 US
SUMMARY:Annual Planning Workshop + Monthly Board Meeting
END:VEVENT
END:VCALENDAR
