BEGIN:VCALENDAR
VERSION:2.0
PRODID:-//santafetxedfoundation.org//NONSGML kigkonsult.se iCalcreator 2.30
 .10//
CALSCALE:GREGORIAN
METHOD:PUBLISH
UID:6a524a42-60da-4e57-91ab-0208ffc4f8e4
X-WR-CALDESC:
X-WR-RELCALID:087f809e645f096649626d1199b8fbf6
X-WR-TIMEZONE:America/Chicago
BEGIN:VTIMEZONE
TZID:America/Chicago
BEGIN:STANDARD
TZNAME:CST
DTSTART:20211107T020000
TZOFFSETFROM:-0500
TZOFFSETTO:-0600
RDATE:20221106T020000
RDATE:20231105T020000
END:STANDARD
BEGIN:DAYLIGHT
TZNAME:CDT
DTSTART:20220313T020000
TZOFFSETFROM:-0600
TZOFFSETTO:-0500
RDATE:20230312T020000
END:DAYLIGHT
END:VTIMEZONE
BEGIN:VEVENT
UID:82794bd1-1b4e-4e57-b181-4e9efd0bce0a
DTSTAMP:20260423T234742Z
DESCRIPTION:
DTSTART;TZID=America/Chicago:20220601T150000
DTEND;TZID=America/Chicago:20220601T160000
LOCATION:4133 Warpath Ave\, Santa Fe\, TX 77510 US
SUMMARY:Executive Committee Meeting
END:VEVENT
END:VCALENDAR
