BEGIN:VCALENDAR
VERSION:2.0
PRODID:-//santafetxedfoundation.org//NONSGML kigkonsult.se iCalcreator 2.30
 .10//
CALSCALE:GREGORIAN
METHOD:PUBLISH
UID:89b5eb54-4344-4c56-bcc4-aa4fccf9ed33
X-WR-CALDESC:
X-WR-RELCALID:14e704c1665647b5121136bbacacc919
X-WR-TIMEZONE:America/Chicago
BEGIN:VTIMEZONE
TZID:America/Chicago
BEGIN:STANDARD
TZNAME:CST
DTSTART:20211107T020000
TZOFFSETFROM:-0500
TZOFFSETTO:-0600
RDATE:20221106T020000
RDATE:20231105T020000
END:STANDARD
BEGIN:DAYLIGHT
TZNAME:CDT
DTSTART:20220313T020000
TZOFFSETFROM:-0600
TZOFFSETTO:-0500
RDATE:20230312T020000
END:DAYLIGHT
END:VTIMEZONE
BEGIN:VEVENT
UID:7afcac5c-6c2c-405e-9e90-b67fc104a100
DTSTAMP:20260423T211500Z
DESCRIPTION:
DTSTART;TZID=America/Chicago:20220803T150000
DTEND;TZID=America/Chicago:20220803T160000
LOCATION:4133 Warpath Ave\, Santa Fe\, TX 77510 US
SUMMARY:Executive Committee Meeting
END:VEVENT
END:VCALENDAR
