BEGIN:VCALENDAR
VERSION:2.0
PRODID:-//santafetxedfoundation.org//NONSGML kigkonsult.se iCalcreator 2.30
 .10//
CALSCALE:GREGORIAN
METHOD:PUBLISH
UID:0de07c8f-931f-4d32-bebd-00296862865b
X-WR-CALDESC:
X-WR-RELCALID:eb89fe4d4e82891d84ea8262803e8100
X-WR-TIMEZONE:America/Chicago
BEGIN:VTIMEZONE
TZID:America/Chicago
BEGIN:STANDARD
TZNAME:CST
DTSTART:20211107T020000
TZOFFSETFROM:-0500
TZOFFSETTO:-0600
RDATE:20221106T020000
RDATE:20231105T020000
END:STANDARD
BEGIN:DAYLIGHT
TZNAME:CDT
DTSTART:20220313T020000
TZOFFSETFROM:-0600
TZOFFSETTO:-0500
RDATE:20230312T020000
END:DAYLIGHT
END:VTIMEZONE
BEGIN:VEVENT
UID:927c0279-6e40-434c-9547-95f0de8d40f1
DTSTAMP:20260424T154837Z
DESCRIPTION:
DTSTART;TZID=America/Chicago:20220803T073000
DTEND;TZID=America/Chicago:20220803T110000
LOCATION:Santa Fe High School
SUMMARY:Convocation
END:VEVENT
END:VCALENDAR
