BEGIN:VCALENDAR
VERSION:2.0
PRODID:-//santafetxedfoundation.org//NONSGML kigkonsult.se iCalcreator 2.30
 .10//
CALSCALE:GREGORIAN
METHOD:PUBLISH
UID:5137a526-e976-41f1-b08b-bf34e87c034a
X-WR-CALDESC:
X-WR-RELCALID:a2af81413742e54a363eb5c421a15622
X-WR-TIMEZONE:America/Chicago
BEGIN:VTIMEZONE
TZID:America/Chicago
BEGIN:STANDARD
TZNAME:CST
DTSTART:20211107T020000
TZOFFSETFROM:-0500
TZOFFSETTO:-0600
RDATE:20221106T020000
RDATE:20231105T020000
END:STANDARD
BEGIN:DAYLIGHT
TZNAME:CDT
DTSTART:20220313T020000
TZOFFSETFROM:-0600
TZOFFSETTO:-0500
RDATE:20230312T020000
END:DAYLIGHT
END:VTIMEZONE
BEGIN:VEVENT
UID:16959d9e-75c7-4f70-81da-bf8849b04e29
DTSTAMP:20260423T211654Z
DESCRIPTION:
DTSTART;TZID=America/Chicago:20220822T173000
DTEND;TZID=America/Chicago:20220822T183000
LOCATION:4133 Warpath Ave\, Santa Fe\, TX 77510 US
SUMMARY:Monthly Board Meeting
END:VEVENT
END:VCALENDAR
