BEGIN:VCALENDAR
VERSION:2.0
PRODID:-//santafetxedfoundation.org//NONSGML kigkonsult.se iCalcreator 2.30
 .10//
CALSCALE:GREGORIAN
METHOD:PUBLISH
UID:0bdfceb4-3ab9-47a1-84d5-738a297f31b3
X-WR-CALDESC:
X-WR-RELCALID:8deadecaefed5c9bbd8018d6c0114b70
X-WR-TIMEZONE:America/Chicago
BEGIN:VTIMEZONE
TZID:America/Chicago
BEGIN:STANDARD
TZNAME:CST
DTSTART:20211107T020000
TZOFFSETFROM:-0500
TZOFFSETTO:-0600
RDATE:20221106T020000
RDATE:20231105T020000
END:STANDARD
BEGIN:DAYLIGHT
TZNAME:CDT
DTSTART:20220313T020000
TZOFFSETFROM:-0600
TZOFFSETTO:-0500
RDATE:20230312T020000
RDATE:20240310T020000
END:DAYLIGHT
END:VTIMEZONE
BEGIN:VEVENT
UID:ec35af49-3abb-4e50-b333-522c896086df
DTSTAMP:20260423T193659Z
DESCRIPTION:
DTSTART;TZID=America/Chicago:20220926T173000
DTEND;TZID=America/Chicago:20220926T183000
LOCATION:4133 Warpath Ave\, Santa Fe\, TX 77510 US
SUMMARY:Monthly Board Meeting
END:VEVENT
END:VCALENDAR
