BEGIN:VCALENDAR
VERSION:2.0
PRODID:-//santafetxedfoundation.org//NONSGML kigkonsult.se iCalcreator 2.30
 .10//
CALSCALE:GREGORIAN
METHOD:PUBLISH
UID:68a4a797-d4b3-4397-b51d-512127772633
X-WR-CALDESC:
X-WR-RELCALID:61266e490d9a049e4f37e35019da2efa
X-WR-TIMEZONE:America/Chicago
BEGIN:VTIMEZONE
TZID:America/Chicago
BEGIN:STANDARD
TZNAME:CST
DTSTART:20211107T020000
TZOFFSETFROM:-0500
TZOFFSETTO:-0600
RDATE:20221106T020000
RDATE:20231105T020000
END:STANDARD
BEGIN:DAYLIGHT
TZNAME:CDT
DTSTART:20220313T020000
TZOFFSETFROM:-0600
TZOFFSETTO:-0500
RDATE:20230312T020000
RDATE:20240310T020000
END:DAYLIGHT
END:VTIMEZONE
BEGIN:VEVENT
UID:59e4710f-ada7-40ea-b80f-bca8bae727d1
DTSTAMP:20260423T031816Z
DESCRIPTION:
DTSTART;TZID=America/Chicago:20221024T173000
DTEND;TZID=America/Chicago:20221024T183000
LOCATION:4133 Warpath Ave\, Santa Fe\, TX 77510 US
SUMMARY:Monthly Board Meeting
END:VEVENT
END:VCALENDAR
