BEGIN:VCALENDAR
VERSION:2.0
PRODID:-//santafetxedfoundation.org//NONSGML kigkonsult.se iCalcreator 2.30
 .10//
CALSCALE:GREGORIAN
METHOD:PUBLISH
UID:5492e6d7-c00b-4712-843d-35f99472e396
X-WR-CALDESC:
X-WR-RELCALID:963e8b5171e88a008ea582a222ba55d6
X-WR-TIMEZONE:America/Chicago
BEGIN:VTIMEZONE
TZID:America/Chicago
BEGIN:STANDARD
TZNAME:CST
DTSTART:20221106T020000
TZOFFSETFROM:-0500
TZOFFSETTO:-0600
RDATE:20231105T020000
END:STANDARD
BEGIN:DAYLIGHT
TZNAME:CDT
DTSTART:20220313T020000
TZOFFSETFROM:-0600
TZOFFSETTO:-0500
RDATE:20230312T020000
RDATE:20240310T020000
END:DAYLIGHT
END:VTIMEZONE
BEGIN:VEVENT
UID:2571c1a3-111a-4c0a-993f-6639b8168255
DTSTAMP:20260423T132325Z
DESCRIPTION:
DTSTART;TZID=America/Chicago:20230111T140000
DTEND;TZID=America/Chicago:20230111T150000
LOCATION:4133 Warpath Ave\, Santa Fe\, TX 77510 US
SUMMARY:Executive Committee Meeting
END:VEVENT
END:VCALENDAR
