BEGIN:VCALENDAR
VERSION:2.0
PRODID:-//santafetxedfoundation.org//NONSGML kigkonsult.se iCalcreator 2.30
 .10//
CALSCALE:GREGORIAN
METHOD:PUBLISH
UID:94cdf30b-27a0-4571-b892-fe2bfa61e883
X-WR-CALDESC:
X-WR-RELCALID:dfc207251f1a26168f7aee6eae071911
X-WR-TIMEZONE:America/Chicago
BEGIN:VTIMEZONE
TZID:America/Chicago
BEGIN:STANDARD
TZNAME:CST
DTSTART:20221106T020000
TZOFFSETFROM:-0500
TZOFFSETTO:-0600
RDATE:20231105T020000
RDATE:20241103T020000
END:STANDARD
BEGIN:DAYLIGHT
TZNAME:CDT
DTSTART:20230312T020000
TZOFFSETFROM:-0600
TZOFFSETTO:-0500
RDATE:20240310T020000
END:DAYLIGHT
END:VTIMEZONE
BEGIN:VEVENT
UID:d35082ef-858e-4a9f-96fa-2feb41a52dec
DTSTAMP:20260423T044044Z
DESCRIPTION:
DTSTART;TZID=America/Chicago:20230729T100000
DTEND;TZID=America/Chicago:20230729T120000
LOCATION:16000 Hwy 6\, Santa Fe\, TX 77510 US
SUMMARY:Back to School Bash
END:VEVENT
END:VCALENDAR
