BEGIN:VCALENDAR
VERSION:2.0
PRODID:-//santafetxedfoundation.org//NONSGML kigkonsult.se iCalcreator 2.30
 .10//
CALSCALE:GREGORIAN
METHOD:PUBLISH
UID:e706a6b1-2e09-46a7-8a64-478626b4ece9
X-WR-CALDESC:
X-WR-RELCALID:0965bb3dc19cdaeecbf680cab540d731
X-WR-TIMEZONE:America/Chicago
BEGIN:VTIMEZONE
TZID:America/Chicago
BEGIN:STANDARD
TZNAME:CST
DTSTART:20221106T020000
TZOFFSETFROM:-0500
TZOFFSETTO:-0600
RDATE:20231105T020000
RDATE:20241103T020000
END:STANDARD
BEGIN:DAYLIGHT
TZNAME:CDT
DTSTART:20230312T020000
TZOFFSETFROM:-0600
TZOFFSETTO:-0500
RDATE:20240310T020000
END:DAYLIGHT
END:VTIMEZONE
BEGIN:VEVENT
UID:24b36ff5-7881-43f0-95da-5261cde9e067
DTSTAMP:20260423T032554Z
DESCRIPTION:
DTSTART;TZID=America/Chicago:20230804T093000
DTEND;TZID=America/Chicago:20230804T130000
LOCATION:
SUMMARY:New Teacher Lunch
END:VEVENT
END:VCALENDAR
