BEGIN:VCALENDAR
VERSION:2.0
PRODID:-//santafetxedfoundation.org//NONSGML kigkonsult.se iCalcreator 2.30
 .10//
CALSCALE:GREGORIAN
METHOD:PUBLISH
UID:94c5db94-3c30-4493-960a-3a3d0a0a4ec4
X-WR-CALDESC:
X-WR-RELCALID:ee9409a2c98218863da556217e3dd842
X-WR-TIMEZONE:America/Chicago
BEGIN:VTIMEZONE
TZID:America/Chicago
BEGIN:STANDARD
TZNAME:CST
DTSTART:20221106T020000
TZOFFSETFROM:-0500
TZOFFSETTO:-0600
RDATE:20231105T020000
RDATE:20241103T020000
END:STANDARD
BEGIN:DAYLIGHT
TZNAME:CDT
DTSTART:20230312T020000
TZOFFSETFROM:-0600
TZOFFSETTO:-0500
RDATE:20240310T020000
END:DAYLIGHT
END:VTIMEZONE
BEGIN:VEVENT
UID:15aae725-2491-4d98-ba4c-b8edd874b909
DTSTAMP:20260423T032437Z
DESCRIPTION:
DTSTART;TZID=America/Chicago:20230810T070000
DTEND;TZID=America/Chicago:20230810T110000
LOCATION:
SUMMARY:2023 SFISD Convocation & Vendor Fair
END:VEVENT
END:VCALENDAR
