BEGIN:VCALENDAR
VERSION:2.0
PRODID:-//santafetxedfoundation.org//NONSGML kigkonsult.se iCalcreator 2.30
 .10//
CALSCALE:GREGORIAN
METHOD:PUBLISH
UID:d991bb4b-0210-4944-b1b7-c393ee2685e2
X-WR-CALDESC:
X-WR-RELCALID:dfe7c409af1ca194264b409b326b6633
X-WR-TIMEZONE:America/Chicago
BEGIN:VTIMEZONE
TZID:America/Chicago
BEGIN:STANDARD
TZNAME:CST
DTSTART:20221106T020000
TZOFFSETFROM:-0500
TZOFFSETTO:-0600
RDATE:20231105T020000
RDATE:20241103T020000
END:STANDARD
BEGIN:DAYLIGHT
TZNAME:CDT
DTSTART:20230312T020000
TZOFFSETFROM:-0600
TZOFFSETTO:-0500
RDATE:20240310T020000
RDATE:20250309T020000
END:DAYLIGHT
END:VTIMEZONE
BEGIN:VEVENT
UID:5d371abd-21d6-43f5-926b-d1cc4b1ab0e9
DTSTAMP:20260423T014338Z
DESCRIPTION:
DTSTART;TZID=America/Chicago:20230922T080000
DTEND;TZID=America/Chicago:20230922T140000
LOCATION:10230 FM-521\,\, Rosharon\, TX 77583 US
SUMMARY:2023 Pulling for Education Clay Sporting Event
END:VEVENT
END:VCALENDAR
