BEGIN:VCALENDAR
VERSION:2.0
PRODID:-//santafetxedfoundation.org//NONSGML kigkonsult.se iCalcreator 2.30
 .10//
CALSCALE:GREGORIAN
METHOD:PUBLISH
UID:0db771c2-49af-42c2-aa95-1490cc35c1f4
X-WR-CALDESC:Embark on this annual bus tour to see the Grants in action mad
 e possible by donors like you! We will travel to Barnett Elementary\, Kuba
 cak Elementary\, and RJ Wollam Elementary.\n\nPlan to arrive at the Cowan 
 Administration Building (4133 Warpath Ave) at 9:00am to get your badge and
  promptly board the bus. We will tour the elementary campuses and be back 
 at Cowan by 11:00am! \n\nSeating is limited\, so thank you for registering
 !
X-WR-RELCALID:60a9f4081f0afbf525f30b3904af9b61
X-WR-TIMEZONE:America/Chicago
BEGIN:VTIMEZONE
TZID:America/Chicago
BEGIN:STANDARD
TZNAME:CST
DTSTART:20231105T020000
TZOFFSETFROM:-0500
TZOFFSETTO:-0600
RDATE:20241103T020000
END:STANDARD
BEGIN:DAYLIGHT
TZNAME:CDT
DTSTART:20230312T020000
TZOFFSETFROM:-0600
TZOFFSETTO:-0500
RDATE:20240310T020000
RDATE:20250309T020000
END:DAYLIGHT
END:VTIMEZONE
BEGIN:VEVENT
UID:b9a17adc-ce3a-4ce8-bfbd-49c247aad018
DTSTAMP:20260422T224332Z
DESCRIPTION:Embark on this annual bus tour to see the Grants in action made
  possible by donors like you! We will travel to Barnett Elementary\, Kubac
 ak Elementary\, and RJ Wollam Elementary.\n\nPlan to arrive at the Cowan A
 dministration Building (4133 Warpath Ave) at 9:00am to get your badge and 
 promptly board the bus. We will tour the elementary campuses and be back a
 t Cowan by 11:00am! \n\nSeating is limited\, so thank you for registering!
DTSTART;TZID=America/Chicago:20231128T090000
DTEND;TZID=America/Chicago:20231128T110000
LOCATION:4133 Warpath Ave.\, Santa Fe\, TX 77510 US
SUMMARY:Tour de School - Elementary Edition
END:VEVENT
END:VCALENDAR
