BEGIN:VCALENDAR
VERSION:2.0
PRODID:-//santafetxedfoundation.org//NONSGML kigkonsult.se iCalcreator 2.30
 .10//
CALSCALE:GREGORIAN
METHOD:PUBLISH
UID:5723de7b-0202-481c-b82e-1607baeca144
X-WR-CALDESC:Embark on this annual bus tour to see the Grants in action mad
 e possible by donors like you! We will travel to Santa Fe High School & Sa
 nta Fe Junior High!\n\nPlan to arrive at the Cowan Administration Building
  (4133 Warpath Ave) at 12:00pm to get your badge and promptly board the bu
 s. We will tour the Junior High and High School campuses and be back at Co
 wan by 2:30! \n\nSeating is limited\, so thank you for registering!
X-WR-RELCALID:29ca5fdce1bcdaac28cd934d011ea2e5
X-WR-TIMEZONE:America/Chicago
BEGIN:VTIMEZONE
TZID:America/Chicago
BEGIN:STANDARD
TZNAME:CST
DTSTART:20231105T020000
TZOFFSETFROM:-0500
TZOFFSETTO:-0600
RDATE:20241103T020000
END:STANDARD
BEGIN:DAYLIGHT
TZNAME:CDT
DTSTART:20230312T020000
TZOFFSETFROM:-0600
TZOFFSETTO:-0500
RDATE:20240310T020000
RDATE:20250309T020000
END:DAYLIGHT
END:VTIMEZONE
BEGIN:VEVENT
UID:0d9f1b02-005f-46aa-ae7f-1bdc6e747fac
DTSTAMP:20260422T210416Z
DESCRIPTION:Embark on this annual bus tour to see the Grants in action made
  possible by donors like you! We will travel to Santa Fe High School & San
 ta Fe Junior High!\n\nPlan to arrive at the Cowan Administration Building 
 (4133 Warpath Ave) at 12:00pm to get your badge and promptly board the bus
 . We will tour the Junior High and High School campuses and be back at Cow
 an by 2:30! \n\nSeating is limited\, so thank you for registering!
DTSTART;TZID=America/Chicago:20231214T120000
DTEND;TZID=America/Chicago:20231214T143000
LOCATION:4133 Warpath Ave.\, Santa Fe\, TX 77510 US
SUMMARY:Tour de School - Secondary Edition
END:VEVENT
END:VCALENDAR
