BEGIN:VCALENDAR
VERSION:2.0
PRODID:-//santafetxedfoundation.org//NONSGML kigkonsult.se iCalcreator 2.30
 .10//
CALSCALE:GREGORIAN
METHOD:PUBLISH
UID:52d0af5c-0b9e-4207-a2d6-9f4b03cc0969
X-WR-CALDESC:We are so proud to welcome our new teachers here in Santa Fe I
 SD! By partnering with us as a sponsor\, you get to interact with our new 
 teachers to promote your business and services and also know that your par
 tnership provides lunch and gift cards to every new teacher there! YOU are
  making a difference! Thank you for your support of this wonderful event!
 \nLunch is from 11:00am-1:00pm. You can arrive at 10:00am to set up your t
 able inside of Cowan.\n-One table and two chairs will be provided.\n-Oppor
 tunity to speak to New Teachers during the lunch.\n-Opportunity to hand ou
 t giveaway items or host a raffle with a table set up during the lunch!\n-
 There are only 6 sponsor spaces available so first come first serve!\nRegi
 ster for early bird discount before June 30\, 2024!\nhttps://secure.qgiv.c
 om/for/santafetexaseducationfoundation/event/welcomenewteachersinsantafeis
 d/
X-WR-RELCALID:18cb9ef1b197cc418dfda1c4973a2088
X-WR-TIMEZONE:America/Chicago
BEGIN:VTIMEZONE
TZID:America/Chicago
BEGIN:STANDARD
TZNAME:CST
DTSTART:20231105T020000
TZOFFSETFROM:-0500
TZOFFSETTO:-0600
RDATE:20241103T020000
RDATE:20251102T020000
END:STANDARD
BEGIN:DAYLIGHT
TZNAME:CDT
DTSTART:20240310T020000
TZOFFSETFROM:-0600
TZOFFSETTO:-0500
RDATE:20250309T020000
END:DAYLIGHT
END:VTIMEZONE
BEGIN:VEVENT
UID:8210dcd0-7b60-4f5f-993a-766d14bb0791
DTSTAMP:20260425T125447Z
DESCRIPTION:We are so proud to welcome our new teachers here in Santa Fe IS
 D! By partnering with us as a sponsor\, you get to interact with our new t
 eachers to promote your business and services and also know that your part
 nership provides lunch and gift cards to every new teacher there! YOU are 
 making a difference! Thank you for your support of this wonderful event!\n
 Lunch is from 11:00am-1:00pm. You can arrive at 10:00am to set up your tab
 le inside of Cowan.\n-One table and two chairs will be provided.\n-Opportu
 nity to speak to New Teachers during the lunch.\n-Opportunity to hand out 
 giveaway items or host a raffle with a table set up during the lunch!\n-Th
 ere are only 6 sponsor spaces available so first come first serve!\nRegist
 er for early bird discount before June 30\, 2024!\nhttps://secure.qgiv.com
 /for/santafetexaseducationfoundation/event/welcomenewteachersinsantafeisd/
DTSTART;TZID=America/Chicago:20240801T110000
DTEND;TZID=America/Chicago:20240801T130000
LOCATION:4133 Warpath Ave.\, Santa Fe\, AL 77510 US
SUMMARY:New Teacher Luncheon
END:VEVENT
END:VCALENDAR
