BEGIN:VCALENDAR
VERSION:2.0
PRODID:-//santafetxedfoundation.org//NONSGML kigkonsult.se iCalcreator 2.30
 .10//
CALSCALE:GREGORIAN
METHOD:PUBLISH
UID:71146431-d52a-4d87-93f5-290550486389
X-WR-CALDESC:You are invited to be a part of our Santa Fe Texas Education F
 oundation’s Back to School Convocation that will be held on Tuesday\, Augu
 st 6th in the auditorium at Santa Fe High School! We are seeking sponsorsh
 ips* and vendors!!\nThis is the first day that over 500 teachers and staff
  return to SFISD after the summer break\, with breakfast provided and the 
 ever-popular vendor fair! Great networking and visibility for your busines
 s with our sponsorship packages!\n*Sponsorship packages include advertisin
 g space in the SFISD Annual Magazine - see link below for the options.\nEa
 rly registration before June 30th offers special pricing\, so register NOW
  and SAVE!
X-WR-RELCALID:3e2a0c333d48aa05a74b0e830d4b3eff
X-WR-TIMEZONE:America/Chicago
BEGIN:VTIMEZONE
TZID:America/Chicago
BEGIN:STANDARD
TZNAME:CST
DTSTART:20231105T020000
TZOFFSETFROM:-0500
TZOFFSETTO:-0600
RDATE:20241103T020000
RDATE:20251102T020000
END:STANDARD
BEGIN:DAYLIGHT
TZNAME:CDT
DTSTART:20240310T020000
TZOFFSETFROM:-0600
TZOFFSETTO:-0500
RDATE:20250309T020000
END:DAYLIGHT
END:VTIMEZONE
BEGIN:VEVENT
UID:265c6099-1a71-4ea4-9b70-0592d24ed89d
DTSTAMP:20260425T130033Z
DESCRIPTION:You are invited to be a part of our Santa Fe Texas Education Fo
 undation’s Back to School Convocation that will be held on Tuesday\, Augus
 t 6th in the auditorium at Santa Fe High School! We are seeking sponsorshi
 ps* and vendors!!\nThis is the first day that over 500 teachers and staff 
 return to SFISD after the summer break\, with breakfast provided and the e
 ver-popular vendor fair! Great networking and visibility for your business
  with our sponsorship packages!\n*Sponsorship packages include advertising
  space in the SFISD Annual Magazine - see link below for the options.\nEar
 ly registration before June 30th offers special pricing\, so register NOW 
 and SAVE!
DTSTART;TZID=America/Chicago:20240806T070000
DTEND;TZID=America/Chicago:20240806T110000
LOCATION:16000 Highway 6\, Santa Fe\, TX 77510 US
SUMMARY:2024 SFISD Convocation & Vendor Fair
END:VEVENT
END:VCALENDAR
