BEGIN:VCALENDAR
VERSION:2.0
PRODID:-//santafetxedfoundation.org//NONSGML kigkonsult.se iCalcreator 2.30
 .10//
CALSCALE:GREGORIAN
METHOD:PUBLISH
UID:bc7142bc-e154-4012-8a13-7596edc05583
X-WR-CALDESC:
X-WR-RELCALID:2bcba2292e7a413c9b87be64fece735d
X-WR-TIMEZONE:America/Chicago
BEGIN:VTIMEZONE
TZID:America/Chicago
BEGIN:STANDARD
TZNAME:CST
DTSTART:20231105T020000
TZOFFSETFROM:-0500
TZOFFSETTO:-0600
RDATE:20241103T020000
RDATE:20251102T020000
END:STANDARD
BEGIN:DAYLIGHT
TZNAME:CDT
DTSTART:20240310T020000
TZOFFSETFROM:-0600
TZOFFSETTO:-0500
RDATE:20250309T020000
RDATE:20260308T020000
END:DAYLIGHT
END:VTIMEZONE
BEGIN:VEVENT
UID:9bc83a17-37e4-4c17-bf93-14417f56e754
DTSTAMP:20260425T162239Z
DESCRIPTION:
DTSTART;TZID=America/Chicago:20241011T080000
DTEND;TZID=America/Chicago:20241011T140000
LOCATION:
SUMMARY:4th Annual Pulling for Education Clay Shoot
END:VEVENT
END:VCALENDAR
